BEGIN:VCALENDAR
PRODID:-//eluceo/ical//2.0/EN
VERSION:2.0
CALSCALE:GREGORIAN
BEGIN:VEVENT
UID:event-1006
DTSTAMP:20260422T063542Z
SUMMARY:Medisch Interfacultair Congres 
DESCRIPTION:Medisch Interfacultair Congres  21 februari is het weer zo ver
 \, het Medisch Interfacultair Congres zal plaatsvinden! Het Medisch Interf
 acultair Congres is hét jaarlijkse landelijke congres voor bachelor- en m
 asterstudenten Geneeskunde uit heel Nederland. Tijdens deze inspirerende d
 ag volg je boeiende lezingen en interactieve workshops over thema's die in
  het reguliere curriculum vaak weinig aan bod komen. Daarnaast is het een 
 unieke kans om te netwerken met gemotiveerde medestudenten.  Waar en wann
 eer? ABN AMRO hoofdkantoor\, Amsterdam  21 febrauri 2026  Kaartverkoop D
 e kaartverkoop is gestart! Koop snel je ticket hier voor maar 12\,50 incl
 usief congres\, informatiemarkt en borrel! 
DTSTART:20260221T090000Z
DTEND:20260221T160000Z
END:VEVENT
BEGIN:VTIMEZONE
TZID:UTC
BEGIN:STANDARD
DTSTART:20260221T090000
TZNAME:UTC
TZOFFSETTO:+0000
TZOFFSETFROM:+0000
END:STANDARD
END:VTIMEZONE
END:VCALENDAR
