BEGIN:VCALENDAR
PRODID:-//eluceo/ical//2.0/EN
VERSION:2.0
CALSCALE:GREGORIAN
BEGIN:VEVENT
UID:event-1037
DTSTAMP:20260422T075612Z
SUMMARY:CAC kroegentocht
DESCRIPTION:Eens in het jaar pakt de CAC extra uit door in plaats van in on
 s geliefde Tapmarin te feesten\, gaan we met zijn allen langs 4 kroegen in
  een andere stad. Dit jaar zullen we de stad Rotterdam verkennen! Koop sne
 l je kaartje om samen het CAC jaar gezamenlijk af te sluiten in het mooie 
 Rotterdam. 
DTSTART:20260401T163000Z
DTEND:20260401T215900Z
END:VEVENT
BEGIN:VTIMEZONE
TZID:UTC
BEGIN:STANDARD
DTSTART:20260401T163000
TZNAME:UTC
TZOFFSETTO:+0000
TZOFFSETFROM:+0000
END:STANDARD
END:VTIMEZONE
END:VCALENDAR
