BEGIN:VCALENDAR
PRODID:-//eluceo/ical//2.0/EN
VERSION:2.0
CALSCALE:GREGORIAN
BEGIN:VEVENT
UID:event-313
DTSTAMP:20260425T153101Z
SUMMARY:Afscheidsborrel 68e bestuur
DESCRIPTION:Helaas kunnen er op deze borrel voor het eten geen allergieën 
 worden doorgegeven. Het eten is vegatarisch.
DTSTART:20200115T160000Z
DTEND:20200115T220000Z
END:VEVENT
BEGIN:VTIMEZONE
TZID:UTC
BEGIN:STANDARD
DTSTART:20200115T160000
TZNAME:UTC
TZOFFSETTO:+0000
TZOFFSETFROM:+0000
END:STANDARD
END:VTIMEZONE
END:VCALENDAR
