BEGIN:VCALENDAR
PRODID:-//eluceo/ical//2.0/EN
VERSION:2.0
CALSCALE:GREGORIAN
BEGIN:VEVENT
UID:event-410
DTSTAMP:20260422T024340Z
SUMMARY:AcCie presents: Crazy 69
DESCRIPTION:De R zit weer in de maand\, het wordt kouder en eerder donker. 
 Gelukkig hebben wij\, de AcCie\, een fijne\, GRATIS\, indoor activiteit vo
 or jullie bedacht om toch nog wat licht mee te pakken deze donkere maanden
 . Kom lekker lachen van onder je dekentje met onze online MFVU crazy 69: S
 int Maarten editie! Tijdens deze spectaculaire wedstrijd nemen teams het t
 egen elkaar op door zoveel mogelijk van de 69 grappige en soms wat absurde
  opdrachten vast te leggen op Zoom. Ga jij de strijd aan? Met kans op leuk
 e prijzen! Omdat het bijna Sint Maarten is\, zijn wij gul en geven wij ju
 llie een kans om vast punten te verdienen: neem een kaars/lampion mee naar
  de Zoommeeting en je hebt een streepje voor op de rest! Geef je op via de
  button hiernaast\, alleen of met je vrienden-/studiegroep (max. 5 person
 en per team)! Datum: maandag 9 november Tijd: 19.00-21:00 Locatie: online\
 , via Zoom (zie link in bevestigingsmail) Prijs: gratis! Wij hebben er zin
  in\, hopelijk tot 9 november! Veel liefs\, De AcCie
DTSTART:20201109T180000Z
DTEND:20201109T200000Z
END:VEVENT
BEGIN:VTIMEZONE
TZID:UTC
BEGIN:STANDARD
DTSTART:20201109T180000
TZNAME:UTC
TZOFFSETTO:+0000
TZOFFSETFROM:+0000
END:STANDARD
END:VTIMEZONE
END:VCALENDAR
