BEGIN:VCALENDAR
PRODID:-//eluceo/ical//2.0/EN
VERSION:2.0
CALSCALE:GREGORIAN
BEGIN:VEVENT
UID:event-458
DTSTAMP:20260420T060252Z
SUMMARY:ReisCie Stadswandeling
DESCRIPTION:Is verplaatst naar 22 mei! Lieve allemaal\, Namens de Reiscommi
 ssie presenteren wij de stadsspel Amsterdam\, waarbij in groepjes een rout
 e kan worden gewandeld langs verschillende cafétjes in Amsterdam om de st
 ad wat beter te leren kennen! Wij zorgen voor gratis drankjes\, cockatails
 (/mocktails) en hapjes tijdens het spel. 22 mei vanaf een uur 13:00/14:00
  kan gestart worden met de route en in eigen tempo worden gelopen. Doe je 
 best\, want er kan een PRIJS worden gewonnen! Je kunt je via de MFVU-site 
 aanmelden tot 21 mei 15:00\, wij sturen je dan een een mailtje met hoeveel
  mensen je de route mag lopen in verband met de corona maatregelen en jij 
 kan dan aangeven met wie je samen wilt!*Momenteel is de regel nog met maxi
 maal 2 mensen over straat!* We kijken ernaar uit en we hopen je de 22e te 
 zien!  Liefs\, De Reiscie
DTSTART:20210522T110000Z
DTEND:20210522T140000Z
END:VEVENT
BEGIN:VTIMEZONE
TZID:UTC
BEGIN:STANDARD
DTSTART:20210522T110000
TZNAME:UTC
TZOFFSETTO:+0000
TZOFFSETFROM:+0000
END:STANDARD
END:VTIMEZONE
END:VCALENDAR
