BEGIN:VCALENDAR
PRODID:-//eluceo/ical//2.0/EN
VERSION:2.0
CALSCALE:GREGORIAN
BEGIN:VEVENT
UID:event-543
DTSTAMP:20260424T141117Z
SUMMARY:Nieuwjaarsdiner
DESCRIPTION:Lieve borrelaars en thuischefs\, We zijn alweer begonnen aan ee
 n nieuw jaar en dat betekent dat het Nieuwjaarsdiner er weer aan komt! Op 
 deze avond kunnen we met elkaar proosten op een mooi en gelukkig nieuw jaa
 r. Dit jaar zal het Nieuwjaarsdiner hoogstwaarschijnlijk weer online plaat
 svinden\, maar mocht de horeca toch open gaan\, dan houden we het Nieuwjaa
 rsdiner op een externe locatie.  Voor maar €6\,50 hebben wij 4 heerlijk
 e gangen voor jullie verzorgd\, waarvan je de recepten via een QR-code in 
 je pakket kunt bekijken. Gedurende de avond zullen er ook nog prijzen te w
 innen zijn met een fantastische hitjesbingo\, dus houd de Zoom tijdens het
  koken en eten goed in de gaten!  Meld je aan via www.mfvu.nl en ontvan
 g in de bevestigingsmail de Zoom-link en meer informatie over het ophalen 
 van het pakket. Naast het 4-gangenmenu krijg je van ons ook nog een gratis
  lustrumbiertje cadeau! Haal zelf wat andere drankjes in huis en dan kan h
 et feest beginnen! Belangrijk: Geef in je bestelling goed aan met wie je 
 de 19e samen gaat eten\, de pakketten worden namelijk per groep verpakt. H
 et advies van het kabinet is om maximaal 4 mensen uit te nodigen\, maar 
 wees vooral verstandig en doe een zelftestje voordat je bij elkaar gaat zi
 tten. Hopelijk hebben jullie er net zoveel zin in als wij en zien we julli
 e allemaal op 19 januari! Liefs\, De BarCie Wat: Online Nieuwjaarsdiner Wa
 nneer: Woensdag 19 januari Hoe laat: Vanaf 18:00 uur Waar: Thuis\, via Zoo
 m Prijs: €6\,50
DTSTART:20220119T170000Z
DTEND:20220119T210000Z
END:VEVENT
BEGIN:VTIMEZONE
TZID:UTC
BEGIN:STANDARD
DTSTART:20220119T170000
TZNAME:UTC
TZOFFSETTO:+0000
TZOFFSETFROM:+0000
END:STANDARD
END:VTIMEZONE
END:VCALENDAR
