BEGIN:VCALENDAR
PRODID:-//eluceo/ical//2.0/EN
VERSION:2.0
CALSCALE:GREGORIAN
BEGIN:VEVENT
UID:event-668
DTSTAMP:20260420T003338Z
SUMMARY:Ouderdag
DESCRIPTION:De jaarlijkse ouderdag komt er weer aan! Vragen je ouders ook e
 lke dag hoe het was op "school" en wat je nou allemaal precies hebt gedaan
 ? Neem ze een dagje mee\, zodat ze precies kunnen zien wat alles inhoudt. 
 Laat ze mee doen aan een fysiologie practicum en misschien moeten ze ook w
 el de 'walk of shame' doen. Laat ze zien wat de snijzaal is en nog heel ve
 el meer! De kaartverkoop zal fysiek zijn op 14\, 15 16 november. Hou de so
 cial media in de gaten voor meer informatie.
DTSTART:20221217T090000Z
DTEND:20221217T160000Z
END:VEVENT
BEGIN:VTIMEZONE
TZID:UTC
BEGIN:STANDARD
DTSTART:20221217T090000
TZNAME:UTC
TZOFFSETTO:+0000
TZOFFSETFROM:+0000
END:STANDARD
END:VTIMEZONE
END:VCALENDAR
