BEGIN:VCALENDAR
PRODID:-//eluceo/ical//2.0/EN
VERSION:2.0
CALSCALE:GREGORIAN
BEGIN:VEVENT
UID:event-770
DTSTAMP:20260425T101626Z
SUMMARY:DiversCie - Ludieke actie
DESCRIPTION:Kom gezellig langs in de MFVU-kamer om samen met de diverscie
  iets moois neer te zetten. Hou de Instagram Stories in de gaten voor wat
  we precies gaan doen!
DTSTART:20231208T100000Z
DTEND:20231208T160000Z
END:VEVENT
BEGIN:VTIMEZONE
TZID:UTC
BEGIN:STANDARD
DTSTART:20231208T100000
TZNAME:UTC
TZOFFSETTO:+0000
TZOFFSETFROM:+0000
END:STANDARD
END:VTIMEZONE
END:VCALENDAR
