BEGIN:VCALENDAR
PRODID:-//eluceo/ical//2.0/EN
VERSION:2.0
CALSCALE:GREGORIAN
BEGIN:VEVENT
UID:event-853
DTSTAMP:20260420T184236Z
SUMMARY:Ludieke (br)actie
DESCRIPTION:Om bij te komen van het gala heeft de MFVU een fantastische lud
 ieke actie voor jullie! Kom gezellig langs in de ledenkamer voor iets lekk
 ers! 
DTSTART:20241011T090000Z
DTEND:20241011T150000Z
END:VEVENT
BEGIN:VTIMEZONE
TZID:UTC
BEGIN:STANDARD
DTSTART:20241011T090000
TZNAME:UTC
TZOFFSETTO:+0000
TZOFFSETFROM:+0000
END:STANDARD
END:VTIMEZONE
END:VCALENDAR
