BEGIN:VCALENDAR
PRODID:-//eluceo/ical//2.0/EN
VERSION:2.0
CALSCALE:GREGORIAN
BEGIN:VEVENT
UID:event-861
DTSTAMP:20260419T124316Z
SUMMARY:Carrière avond 
DESCRIPTION:Dinsdag 12 november 2024 is alweer de jaarlijkse Carrièreavond
  van de MFVU! Dit is een avond gevuld met verschillende sprekers\, worksho
 ps en meer. Hierbij kun je je oriënteren op alle mogelijkheden die de opl
 eiding geneeskunde biedt na het behalen van je diploma. Het thema 'Van Wie
 g tot Wijsheid'! richt zich op alle levensfasen die wij als personen (kunn
 en) meemaken. Op de avond zullen drie sprekers je onder andere meenemen in
  hun loopbaan tot hun huidige beroep en je meer vertellen over hun ervarin
 gen\, namelijk: een gynaecoloog\, een kinderhartchirurg en een verslavings
 arts. Naast deze lezingen zijn er ook nog leerzame én praktische workshop
 s waar je je kennis verder kan verbreden. Denk hierbij bijvoorbeeld aan ee
 n workshop kinderreanimatie!  Tijd: 17:00 - 21:45  Locatie: Medische Fac
 ulteitsgebouw\, Van der Boechorststraat 7.  Tickets: €4\,50 voor leden\
 , en €5\,50 voor externen. (inclusief diner en afsluitende borrel) Mis d
 eze unieke kans om te leren over deze bijzondere specialismen en je netwer
 k uit te breiden niet! Koop dan snel je kaartje op de MFVU-website! Downlo
 ad hier het programmaboekje om vast een inzage te krijgen in de invulling 
 van de avond: Klik op deze link!   
DTSTART:20241112T160000Z
DTEND:20241112T204500Z
END:VEVENT
BEGIN:VTIMEZONE
TZID:UTC
BEGIN:STANDARD
DTSTART:20241112T160000
TZNAME:UTC
TZOFFSETTO:+0000
TZOFFSETFROM:+0000
END:STANDARD
END:VTIMEZONE
END:VCALENDAR
