BEGIN:VCALENDAR
PRODID:-//eluceo/ical//2.0/EN
VERSION:2.0
CALSCALE:GREGORIAN
BEGIN:VEVENT
UID:event-881
DTSTAMP:20260425T023339Z
SUMMARY:Duurzaamheidsweek
DESCRIPTION:Dit jaar organiseert de MFVU een duurzaamheidsweek! Deze vindt 
 plaats van 11 t/m 15 november. Samen met jullie hopen wij ons deze week ex
 tra in te kunnen zetten voor een duurzamere wereld.  De gehele week kan j
 e duurzame ideeën voor de mfvu indienen in de ideeënbox en daarbij kans 
 maken op een MFVU-dopper. Daarnaast houden we een kledinginzameling/ruil a
 ctie en zamelen we (houdbaar) eten in voor de voedselbank. Op woensdag 13 
 november vindt de Teacher awards borrel plaats. Hierbij wordt er alleen ve
 getarisch eten aangeboden en maken wij geen gebruik van wegwerpbestek of -
 borden. Neem je eigen bestek mee\, of koop voor een klein bedrag je eigen 
 herbruikbare MFVU bamboe bestekset (verkrijgbaar via de website).  Scan d
 e QR-code in de LK\, of klik op onderstaande link voor meer informatie ove
 r de week en voor duurzame feitjes! Hierin zie je het programma\, maar ook
  leuke tips om zelf bij te kunnen dragen aan een duurzame wereld! Klik op 
 deze link voor het boekje! Alvast bedankt voor jullie bijdrage!
DTSTART:20241110T230000Z
DTEND:20241114T230000Z
END:VEVENT
BEGIN:VTIMEZONE
TZID:UTC
BEGIN:STANDARD
DTSTART:20241110T230000
TZNAME:UTC
TZOFFSETTO:+0000
TZOFFSETFROM:+0000
END:STANDARD
END:VTIMEZONE
END:VCALENDAR
