BEGIN:VCALENDAR
PRODID:-//eluceo/ical//2.0/EN
VERSION:2.0
CALSCALE:GREGORIAN
BEGIN:VEVENT
UID:event-925
DTSTAMP:20260422T061407Z
SUMMARY:Pre-CAT
DESCRIPTION:Kom tussen het leren mee eten met de pasta salade in de ledenka
 mer!
DTSTART:20250423T150000Z
DTEND:20250423T170000Z
END:VEVENT
BEGIN:VTIMEZONE
TZID:UTC
BEGIN:STANDARD
DTSTART:20250423T150000
TZNAME:UTC
TZOFFSETTO:+0000
TZOFFSETFROM:+0000
END:STANDARD
END:VTIMEZONE
END:VCALENDAR
