BEGIN:VCALENDAR
PRODID:-//eluceo/ical//2.0/EN
VERSION:2.0
CALSCALE:GREGORIAN
BEGIN:VEVENT
UID:event-927
DTSTAMP:20260422T062717Z
SUMMARY:KunstCie activiteit
DESCRIPTION:Kom naar het modern ballet bij ITA! Lijkt het je leuk om wat ni
 euws te proberen en naar een ballet voorstelling te gaan\, wees niet bang 
 en grijp toe! De KunstCie heeft een mooie deal gemaakt\, voor maar liefst 
 €11\,07 zit jij straks in de theater zaal. De show ICOON is een verzamel
 ing van moderballet en zal spelen in het Internationaal Theater Amsterdam.
   Het is van 18:30 - 21:15. Ben je benieuwd naar de show?  Trailer: htt
 ps://youtu.be/-D_KnFvsmxI?si=TKQT0xIAhRE6vtcW    
DTSTART:20250506T160000Z
DTEND:20250506T200000Z
END:VEVENT
BEGIN:VTIMEZONE
TZID:UTC
BEGIN:STANDARD
DTSTART:20250506T160000
TZNAME:UTC
TZOFFSETTO:+0000
TZOFFSETFROM:+0000
END:STANDARD
END:VTIMEZONE
END:VCALENDAR
