BEGIN:VCALENDAR
PRODID:-//eluceo/ical//2.0/EN
VERSION:2.0
CALSCALE:GREGORIAN
BEGIN:VEVENT
UID:event-929
DTSTAMP:20260422T061526Z
SUMMARY:Zeilweekend
DESCRIPTION:Kom 19\, 20 en 21 maart langs de ledenkamer om je kaartje te ko
 pen!
DTSTART:20250509T130000Z
DTEND:20250511T180000Z
END:VEVENT
BEGIN:VTIMEZONE
TZID:UTC
BEGIN:STANDARD
DTSTART:20250509T130000
TZNAME:UTC
TZOFFSETTO:+0000
TZOFFSETFROM:+0000
END:STANDARD
END:VTIMEZONE
END:VCALENDAR
