BEGIN:VCALENDAR
PRODID:-//eluceo/ical//2.0/EN
VERSION:2.0
CALSCALE:GREGORIAN
BEGIN:VEVENT
UID:event-942
DTSTAMP:20260422T062732Z
SUMMARY:Borrel 3 september
DESCRIPTION:Kom langs bij de eerste borrel van het jaar! Het thema zal dan 
 ook introwback zijn. Voor maar €4 kan je meeeten met rode pasta pesto\, 
 en je kan natuurlijk ook altijd zonder eetkaartje langskomen voor een dran
 kje en een dansje!
DTSTART:20250903T143000Z
DTEND:20250903T200000Z
END:VEVENT
BEGIN:VTIMEZONE
TZID:UTC
BEGIN:STANDARD
DTSTART:20250903T143000
TZNAME:UTC
TZOFFSETTO:+0000
TZOFFSETFROM:+0000
END:STANDARD
END:VTIMEZONE
END:VCALENDAR
