BEGIN:VCALENDAR
PRODID:-//eluceo/ical//2.0/EN
VERSION:2.0
CALSCALE:GREGORIAN
BEGIN:VEVENT
UID:event-943
DTSTAMP:20260422T061525Z
SUMMARY:BBB
DESCRIPTION:Schrijf je in voor onze Barbecue Beachvolleybal Borrel en trap 
 het nieuwe studiejaar af met sport en gezelligheid!
DTSTART:20250916T140000Z
DTEND:20250916T200000Z
END:VEVENT
BEGIN:VTIMEZONE
TZID:UTC
BEGIN:STANDARD
DTSTART:20250916T140000
TZNAME:UTC
TZOFFSETTO:+0000
TZOFFSETFROM:+0000
END:STANDARD
END:VTIMEZONE
END:VCALENDAR
