BEGIN:VCALENDAR
PRODID:-//eluceo/ical//2.0/EN
VERSION:2.0
CALSCALE:GREGORIAN
BEGIN:VEVENT
UID:event-951
DTSTAMP:20260422T062423Z
SUMMARY:CAC
DESCRIPTION:Lieve leden\, Het jaar is weer van start. Dat betekent helaas d
 at het eerste tentamen er ook weer aankomt. Gelukkig betekent dat ook dat 
 de eerste CAC van het jaar er weer aankomt! Voor iedereen die de zomer al 
 mist is deze TropiCAC ideaal! Trek je mooiste tropische outfit aan (en nee
 m voor de zekerheid ook een regenjas mee...) Hopelijk zien we jullie allem
 aal maandag 29 september in de Tapmarin! Liefs\, De CAC
DTSTART:20250929T200000Z
DTEND:20250930T000000Z
END:VEVENT
BEGIN:VTIMEZONE
TZID:UTC
BEGIN:STANDARD
DTSTART:20250929T200000
TZNAME:UTC
TZOFFSETTO:+0000
TZOFFSETFROM:+0000
END:STANDARD
END:VTIMEZONE
END:VCALENDAR
