BEGIN:VCALENDAR
PRODID:-//eluceo/ical//2.0/EN
VERSION:2.0
CALSCALE:GREGORIAN
BEGIN:VEVENT
UID:event-955
DTSTAMP:20260422T062620Z
SUMMARY:EducaCie activiteit
DESCRIPTION:Net stressvolle tentamens achter de rug? Gun jezelf een relaxmo
 mentje en doe mee met de workshop: massage geven op dinsdag 7 oktober!  O
 ntspan\, lach en leer simpele technieken waarmee je vrienden (en jezelf!) 
 een heerlijke break kunt geven en even alles los kunt laten. Gezellig\, le
 erzaam en ontspannend - dit wil je niet missen!
DTSTART:20251007T160000Z
DTEND:20251007T200000Z
END:VEVENT
BEGIN:VTIMEZONE
TZID:UTC
BEGIN:STANDARD
DTSTART:20251007T160000
TZNAME:UTC
TZOFFSETTO:+0000
TZOFFSETFROM:+0000
END:STANDARD
END:VTIMEZONE
END:VCALENDAR
