BEGIN:VCALENDAR
PRODID:-//eluceo/ical//2.0/EN
VERSION:2.0
CALSCALE:GREGORIAN
BEGIN:VEVENT
UID:event-965
DTSTAMP:20260422T063450Z
SUMMARY:SportCie activiteit
DESCRIPTION:Kom pingpongen met de SportCie\, je kan ook genieten van een d
 rankje!  
DTSTART:20251111T170000Z
DTEND:20251111T210000Z
END:VEVENT
BEGIN:VTIMEZONE
TZID:UTC
BEGIN:STANDARD
DTSTART:20251111T170000
TZNAME:UTC
TZOFFSETTO:+0000
TZOFFSETFROM:+0000
END:STANDARD
END:VTIMEZONE
END:VCALENDAR
