BEGIN:VCALENDAR
PRODID:-//eluceo/ical//2.0/EN
VERSION:2.0
CALSCALE:GREGORIAN
BEGIN:VEVENT
UID:event-971
DTSTAMP:20260422T061458Z
SUMMARY:Focus activiteit
DESCRIPTION:Heb jij nog een nieuwe foto nodig voor je CV of LinkedIn maar w
 eet je niet zo goed waar je die moet maken?  Met een foto gemaakt door de
  Focus commissie oogt je CV meteen een stuk professioneler. Dus wil je een
  makkelijke\, goedkope en goede CV-foto? Kom dan 18 september langs het NU
 -gebouw op de tweede verdieping!!  Groetjes van de Focus commissie! Ook v
 oor de nieuwe eerstejaars onder ons\, Kleine heads-up: voor Scorion heb j
 e een CV nodig en daarbij hoort ook een professionele foto! De Focus-commi
 ssie organiseert daarom vanaf dit jaar een fotoshoot op de faculteit. Je k
 an 18 september langskomen van 11.00u - 14.00u op de VU (precieze locatie 
 volgt in de mail bij je ticket bevstiging). Je hoeft dus niet ver te reize
 n en het kost je maar een klein bedrag. 
DTSTART:20250918T090000Z
DTEND:20250918T120000Z
END:VEVENT
BEGIN:VTIMEZONE
TZID:UTC
BEGIN:STANDARD
DTSTART:20250918T090000
TZNAME:UTC
TZOFFSETTO:+0000
TZOFFSETFROM:+0000
END:STANDARD
END:VTIMEZONE
END:VCALENDAR
