BEGIN:VCALENDAR
PRODID:-//eluceo/ical//2.0/EN
VERSION:2.0
CALSCALE:GREGORIAN
BEGIN:VEVENT
UID:event-976
DTSTAMP:20260422T062405Z
SUMMARY:Carrièreavond
DESCRIPTION:Op donderdag 4 december vindt de jaarlijkse carrièreavond van 
 de MFVU weer plaats\, met dit jaar als thema code rood! Hier zullen een AN
 IOS scheepsarts\, militair arts en een MMT-arts een lezing houden over hun
  ervaringen en werkzaamheden. Daarnaast worden er verschillende interessan
 te workshops gegeven\, is er een informatiemarkt waar je vette prijzen kan
  winnen en is er catering aanwezig! Zien we je daar?
DTSTART:20251204T160000Z
DTEND:20251204T210000Z
END:VEVENT
BEGIN:VTIMEZONE
TZID:UTC
BEGIN:STANDARD
DTSTART:20251204T160000
TZNAME:UTC
TZOFFSETTO:+0000
TZOFFSETFROM:+0000
END:STANDARD
END:VTIMEZONE
END:VCALENDAR
